BEGIN:VCALENDAR
VERSION:2.0
PRODID:-//WISCONSIN VETERANS VILLAGE ASSOCIATION INC. - ECPv6.15.20//NONSGML v1.0//EN
CALSCALE:GREGORIAN
METHOD:PUBLISH
X-ORIGINAL-URL:https://wisvva.org
X-WR-CALDESC:Events for WISCONSIN VETERANS VILLAGE ASSOCIATION INC.
REFRESH-INTERVAL;VALUE=DURATION:PT1H
X-Robots-Tag:noindex
X-PUBLISHED-TTL:PT1H
BEGIN:VTIMEZONE
TZID:America/Chicago
BEGIN:DAYLIGHT
TZOFFSETFROM:-0600
TZOFFSETTO:-0500
TZNAME:CDT
DTSTART:20280312T080000
END:DAYLIGHT
BEGIN:STANDARD
TZOFFSETFROM:-0500
TZOFFSETTO:-0600
TZNAME:CST
DTSTART:20281105T070000
END:STANDARD
BEGIN:DAYLIGHT
TZOFFSETFROM:-0600
TZOFFSETTO:-0500
TZNAME:CDT
DTSTART:20290311T080000
END:DAYLIGHT
BEGIN:STANDARD
TZOFFSETFROM:-0500
TZOFFSETTO:-0600
TZNAME:CST
DTSTART:20291104T070000
END:STANDARD
BEGIN:DAYLIGHT
TZOFFSETFROM:-0600
TZOFFSETTO:-0500
TZNAME:CDT
DTSTART:20300310T080000
END:DAYLIGHT
BEGIN:STANDARD
TZOFFSETFROM:-0500
TZOFFSETTO:-0600
TZNAME:CST
DTSTART:20301103T070000
END:STANDARD
END:VTIMEZONE
BEGIN:VEVENT
DTSTART;TZID=America/Chicago:20291001T183000
DTEND;TZID=America/Chicago:20291001T193000
DTSTAMP:20260425T113046
CREATED:20250403T201819Z
LAST-MODIFIED:20250403T202927Z
UID:10000238-1885573800-1885577400@wisvva.org
SUMMARY:A New Life Open AA Meeting
DESCRIPTION:
URL:https://wisvva.org/event/a-new-life-open-aa-meeting/2029-10-01/
LOCATION:Wisconsin Veterans Village\, 2919 W Glenpark Dr. Suite 500\, Appleton\, WI\, 54914\, United States
END:VEVENT
BEGIN:VEVENT
DTSTART;TZID=America/Chicago:20291002T110000
DTEND;TZID=America/Chicago:20291002T130000
DTSTAMP:20260425T113046
CREATED:20250416T204605Z
LAST-MODIFIED:20250416T204605Z
UID:10001406-1885633200-1885640400@wisvva.org
SUMMARY:Appleton Vietnam Veterans
DESCRIPTION:About Our Chapter\nAppleton VVA Chapter 351 is aligned with Vietnam Veterans of America\, chartered by Congress in 1986 and dedicated to Vietnam-era Veterans and their families. VVA actively promotes the following goals: \n\nAdvocate on important issues: health care and well-being of veterans; we aid lobbying efforts that support veteran’s issues\nContinually seek the fullest accounting of POW/MIAs and support our next generation of American war veterans\n\nWhat We Do\n\nWe hold regular meetings\, promote social events\, hold fundraising drives throughout the year to benefit veterans and their families\nWe organize a mobile education program called Reflections of Vietnam\, which travels to high schools and other venues to teach young folks and the public about Vietnam\, and positively change the public perception of Vietnam Veterans.\nWe organize/host seminars on Toxic Substances used in wars to help the public understand the long-term effects of these toxins on their lives and the lives of their loved ones.
URL:https://wisvva.org/event/appleton-vietnam-veterans/2029-10-02/
LOCATION:Wisconsin Veterans Village\, 2919 W Glenpark Dr. Suite 500\, Appleton\, WI\, 54914\, United States
END:VEVENT
BEGIN:VEVENT
DTSTART;TZID=America/Chicago:20291003T110000
DTEND;TZID=America/Chicago:20291003T140000
DTSTAMP:20260425T113046
CREATED:20260325T212510Z
LAST-MODIFIED:20260402T191442Z
UID:10002660-1885719600-1885730400@wisvva.org
SUMMARY:Vet & Frets
DESCRIPTION:Free Guitar lessons – complete 10 Get a free guitar
URL:https://wisvva.org/event/six-string-veterans-project/2029-10-03/
LOCATION:Wisconsin Veterans Village\, 2919 W Glenpark Dr. Suite 500\, Appleton\, WI\, 54914\, United States
ORGANIZER;CN="WISVVA":MAILTO:info@wisvva.org
END:VEVENT
BEGIN:VEVENT
DTSTART;TZID=America/Chicago:20291008T183000
DTEND;TZID=America/Chicago:20291008T193000
DTSTAMP:20260425T113046
CREATED:20250403T201819Z
LAST-MODIFIED:20250403T202927Z
UID:10000239-1886178600-1886182200@wisvva.org
SUMMARY:A New Life Open AA Meeting
DESCRIPTION:
URL:https://wisvva.org/event/a-new-life-open-aa-meeting/2029-10-08/
LOCATION:Wisconsin Veterans Village\, 2919 W Glenpark Dr. Suite 500\, Appleton\, WI\, 54914\, United States
END:VEVENT
BEGIN:VEVENT
DTSTART;TZID=America/Chicago:20291010T110000
DTEND;TZID=America/Chicago:20291010T140000
DTSTAMP:20260425T113046
CREATED:20260325T212510Z
LAST-MODIFIED:20260402T191442Z
UID:10002661-1886324400-1886335200@wisvva.org
SUMMARY:Vet & Frets
DESCRIPTION:Free Guitar lessons – complete 10 Get a free guitar
URL:https://wisvva.org/event/six-string-veterans-project/2029-10-10/
LOCATION:Wisconsin Veterans Village\, 2919 W Glenpark Dr. Suite 500\, Appleton\, WI\, 54914\, United States
ORGANIZER;CN="WISVVA":MAILTO:info@wisvva.org
END:VEVENT
BEGIN:VEVENT
DTSTART;TZID=America/Chicago:20291010T170000
DTEND;TZID=America/Chicago:20291010T210000
DTSTAMP:20260425T113046
CREATED:20250416T205417Z
LAST-MODIFIED:20250416T205417Z
UID:10001466-1886346000-1886360400@wisvva.org
SUMMARY:Coast Guard Flotilla 47-03 Neenah / Menasha
DESCRIPTION:When you join the Coast Guard Auxiliary\, you could find yourself saving lives\, protecting the environment from polluters\, guarding our shores from terrorists and much more. That’s our job – 24 hours a day\, 365 days a year. That’s life in the Coast Guard Auxiliary. We don’t just train. We train and perform. \nSince 1939 the U.S. Coast Guard Auxiliary has safeguarded our Nation’s maritime interests in the heartland\, in the ports\, at sea\, and around the globe. \nWe protect the maritime economy and the environment\, we defend our maritime borders\, and we save those in peril. This history has forged our character and purpose as America’s Maritime Guardian — Always Ready for all hazards and all threats.
URL:https://wisvva.org/event/coast-guard-flotilla-47-03-neenah-menasha/2029-10-10/
LOCATION:Wisconsin Veterans Village\, 2919 W Glenpark Dr. Suite 500\, Appleton\, WI\, 54914\, United States
END:VEVENT
BEGIN:VEVENT
DTSTART;TZID=America/Chicago:20291014T130000
DTEND;TZID=America/Chicago:20291014T160000
DTSTAMP:20260425T113046
CREATED:20250416T200851Z
LAST-MODIFIED:20250416T202151Z
UID:10001230-1886677200-1886688000@wisvva.org
SUMMARY:Blue Star Mothers Monthly Meeting
DESCRIPTION:We exist to provide support and encouragement to our troops\, veterans and their families.
URL:https://wisvva.org/event/blue-star-mothers-monthly-meeting/2029-10-14/
LOCATION:Wisconsin Veterans Village\, 2919 W Glenpark Dr. Suite 500\, Appleton\, WI\, 54914\, United States
END:VEVENT
BEGIN:VEVENT
DTSTART;TZID=America/Chicago:20291015T183000
DTEND;TZID=America/Chicago:20291015T193000
DTSTAMP:20260425T113046
CREATED:20250403T201819Z
LAST-MODIFIED:20250403T202927Z
UID:10000240-1886783400-1886787000@wisvva.org
SUMMARY:A New Life Open AA Meeting
DESCRIPTION:
URL:https://wisvva.org/event/a-new-life-open-aa-meeting/2029-10-15/
LOCATION:Wisconsin Veterans Village\, 2919 W Glenpark Dr. Suite 500\, Appleton\, WI\, 54914\, United States
END:VEVENT
BEGIN:VEVENT
DTSTART;TZID=America/Chicago:20291017T110000
DTEND;TZID=America/Chicago:20291017T140000
DTSTAMP:20260425T113046
CREATED:20260325T212510Z
LAST-MODIFIED:20260402T191442Z
UID:10002662-1886929200-1886940000@wisvva.org
SUMMARY:Vet & Frets
DESCRIPTION:Free Guitar lessons – complete 10 Get a free guitar
URL:https://wisvva.org/event/six-string-veterans-project/2029-10-17/
LOCATION:Wisconsin Veterans Village\, 2919 W Glenpark Dr. Suite 500\, Appleton\, WI\, 54914\, United States
ORGANIZER;CN="WISVVA":MAILTO:info@wisvva.org
END:VEVENT
BEGIN:VEVENT
DTSTART;TZID=America/Chicago:20291021T120000
DTEND;TZID=America/Chicago:20291021T170000
DTSTAMP:20260425T113046
CREATED:20250416T201754Z
LAST-MODIFIED:20250416T201754Z
UID:10001291-1887278400-1887296400@wisvva.org
SUMMARY:Daughters of the American Revolution - Monthly Meeting
DESCRIPTION:The Appleton Chapter\, NSDAR\, holds monthly meetings\, September through May. We get together occasionally for social events and volunteering outside of those scheduled meeting times. The location changes with each month. Contact us for meeting locations.We are a very active DAR chapter and enjoy meeting regularly. The chapter promotes historic preservation\, education and patriotism.  Guest speakers and members provide interesting programs\, relating to a wide variety of subjects. Subjects include community projects\, lineage and genealogical research\, history\, and current issues of concern.Prospective members are welcome and assistance with filling out DAR application papers is available. For more information on our meetings\, or joining the Appleton Chapter\, NSDAR\, please contact us.
URL:https://wisvva.org/event/daughters-of-the-american-revolution-monthly-meeting/2029-10-21/
LOCATION:Wisconsin Veterans Village\, 2919 W Glenpark Dr. Suite 500\, Appleton\, WI\, 54914\, United States
END:VEVENT
BEGIN:VEVENT
DTSTART;TZID=America/Chicago:20291022T183000
DTEND;TZID=America/Chicago:20291022T193000
DTSTAMP:20260425T113046
CREATED:20250403T201819Z
LAST-MODIFIED:20250403T202927Z
UID:10000241-1887388200-1887391800@wisvva.org
SUMMARY:A New Life Open AA Meeting
DESCRIPTION:
URL:https://wisvva.org/event/a-new-life-open-aa-meeting/2029-10-22/
LOCATION:Wisconsin Veterans Village\, 2919 W Glenpark Dr. Suite 500\, Appleton\, WI\, 54914\, United States
END:VEVENT
BEGIN:VEVENT
DTSTART;TZID=America/Chicago:20291024T110000
DTEND;TZID=America/Chicago:20291024T140000
DTSTAMP:20260425T113046
CREATED:20260325T212510Z
LAST-MODIFIED:20260402T191442Z
UID:10002663-1887534000-1887544800@wisvva.org
SUMMARY:Vet & Frets
DESCRIPTION:Free Guitar lessons – complete 10 Get a free guitar
URL:https://wisvva.org/event/six-string-veterans-project/2029-10-24/
LOCATION:Wisconsin Veterans Village\, 2919 W Glenpark Dr. Suite 500\, Appleton\, WI\, 54914\, United States
ORGANIZER;CN="WISVVA":MAILTO:info@wisvva.org
END:VEVENT
BEGIN:VEVENT
DTSTART;TZID=America/Chicago:20291029T183000
DTEND;TZID=America/Chicago:20291029T193000
DTSTAMP:20260425T113046
CREATED:20250403T201819Z
LAST-MODIFIED:20250403T202927Z
UID:10000242-1887993000-1887996600@wisvva.org
SUMMARY:A New Life Open AA Meeting
DESCRIPTION:
URL:https://wisvva.org/event/a-new-life-open-aa-meeting/2029-10-29/
LOCATION:Wisconsin Veterans Village\, 2919 W Glenpark Dr. Suite 500\, Appleton\, WI\, 54914\, United States
END:VEVENT
BEGIN:VEVENT
DTSTART;TZID=America/Chicago:20291031T110000
DTEND;TZID=America/Chicago:20291031T140000
DTSTAMP:20260425T113046
CREATED:20260325T212510Z
LAST-MODIFIED:20260402T191442Z
UID:10002664-1888138800-1888149600@wisvva.org
SUMMARY:Vet & Frets
DESCRIPTION:Free Guitar lessons – complete 10 Get a free guitar
URL:https://wisvva.org/event/six-string-veterans-project/2029-10-31/
LOCATION:Wisconsin Veterans Village\, 2919 W Glenpark Dr. Suite 500\, Appleton\, WI\, 54914\, United States
ORGANIZER;CN="WISVVA":MAILTO:info@wisvva.org
END:VEVENT
BEGIN:VEVENT
DTSTART;TZID=America/Chicago:20291105T183000
DTEND;TZID=America/Chicago:20291105T193000
DTSTAMP:20260425T113046
CREATED:20250403T201819Z
LAST-MODIFIED:20250403T202927Z
UID:10000243-1888597800-1888601400@wisvva.org
SUMMARY:A New Life Open AA Meeting
DESCRIPTION:
URL:https://wisvva.org/event/a-new-life-open-aa-meeting/2029-11-05/
LOCATION:Wisconsin Veterans Village\, 2919 W Glenpark Dr. Suite 500\, Appleton\, WI\, 54914\, United States
END:VEVENT
BEGIN:VEVENT
DTSTART;TZID=America/Chicago:20291106T110000
DTEND;TZID=America/Chicago:20291106T130000
DTSTAMP:20260425T113046
CREATED:20250416T204605Z
LAST-MODIFIED:20250416T204605Z
UID:10001407-1888657200-1888664400@wisvva.org
SUMMARY:Appleton Vietnam Veterans
DESCRIPTION:About Our Chapter\nAppleton VVA Chapter 351 is aligned with Vietnam Veterans of America\, chartered by Congress in 1986 and dedicated to Vietnam-era Veterans and their families. VVA actively promotes the following goals: \n\nAdvocate on important issues: health care and well-being of veterans; we aid lobbying efforts that support veteran’s issues\nContinually seek the fullest accounting of POW/MIAs and support our next generation of American war veterans\n\nWhat We Do\n\nWe hold regular meetings\, promote social events\, hold fundraising drives throughout the year to benefit veterans and their families\nWe organize a mobile education program called Reflections of Vietnam\, which travels to high schools and other venues to teach young folks and the public about Vietnam\, and positively change the public perception of Vietnam Veterans.\nWe organize/host seminars on Toxic Substances used in wars to help the public understand the long-term effects of these toxins on their lives and the lives of their loved ones.
URL:https://wisvva.org/event/appleton-vietnam-veterans/2029-11-06/
LOCATION:Wisconsin Veterans Village\, 2919 W Glenpark Dr. Suite 500\, Appleton\, WI\, 54914\, United States
END:VEVENT
BEGIN:VEVENT
DTSTART;TZID=America/Chicago:20291107T110000
DTEND;TZID=America/Chicago:20291107T140000
DTSTAMP:20260425T113046
CREATED:20260325T212510Z
LAST-MODIFIED:20260402T191442Z
UID:10002665-1888743600-1888754400@wisvva.org
SUMMARY:Vet & Frets
DESCRIPTION:Free Guitar lessons – complete 10 Get a free guitar
URL:https://wisvva.org/event/six-string-veterans-project/2029-11-07/
LOCATION:Wisconsin Veterans Village\, 2919 W Glenpark Dr. Suite 500\, Appleton\, WI\, 54914\, United States
ORGANIZER;CN="WISVVA":MAILTO:info@wisvva.org
END:VEVENT
BEGIN:VEVENT
DTSTART;TZID=America/Chicago:20291111T130000
DTEND;TZID=America/Chicago:20291111T160000
DTSTAMP:20260425T113046
CREATED:20250416T200851Z
LAST-MODIFIED:20250416T202151Z
UID:10001231-1889096400-1889107200@wisvva.org
SUMMARY:Blue Star Mothers Monthly Meeting
DESCRIPTION:We exist to provide support and encouragement to our troops\, veterans and their families.
URL:https://wisvva.org/event/blue-star-mothers-monthly-meeting/2029-11-11/
LOCATION:Wisconsin Veterans Village\, 2919 W Glenpark Dr. Suite 500\, Appleton\, WI\, 54914\, United States
END:VEVENT
BEGIN:VEVENT
DTSTART;TZID=America/Chicago:20291112T183000
DTEND;TZID=America/Chicago:20291112T193000
DTSTAMP:20260425T113046
CREATED:20250403T201819Z
LAST-MODIFIED:20250403T202927Z
UID:10000244-1889202600-1889206200@wisvva.org
SUMMARY:A New Life Open AA Meeting
DESCRIPTION:
URL:https://wisvva.org/event/a-new-life-open-aa-meeting/2029-11-12/
LOCATION:Wisconsin Veterans Village\, 2919 W Glenpark Dr. Suite 500\, Appleton\, WI\, 54914\, United States
END:VEVENT
BEGIN:VEVENT
DTSTART;TZID=America/Chicago:20291114T110000
DTEND;TZID=America/Chicago:20291114T140000
DTSTAMP:20260425T113046
CREATED:20260325T212510Z
LAST-MODIFIED:20260402T191442Z
UID:10002666-1889348400-1889359200@wisvva.org
SUMMARY:Vet & Frets
DESCRIPTION:Free Guitar lessons – complete 10 Get a free guitar
URL:https://wisvva.org/event/six-string-veterans-project/2029-11-14/
LOCATION:Wisconsin Veterans Village\, 2919 W Glenpark Dr. Suite 500\, Appleton\, WI\, 54914\, United States
ORGANIZER;CN="WISVVA":MAILTO:info@wisvva.org
END:VEVENT
BEGIN:VEVENT
DTSTART;TZID=America/Chicago:20291114T170000
DTEND;TZID=America/Chicago:20291114T210000
DTSTAMP:20260425T113046
CREATED:20250416T205417Z
LAST-MODIFIED:20250416T205417Z
UID:10001467-1889370000-1889384400@wisvva.org
SUMMARY:Coast Guard Flotilla 47-03 Neenah / Menasha
DESCRIPTION:When you join the Coast Guard Auxiliary\, you could find yourself saving lives\, protecting the environment from polluters\, guarding our shores from terrorists and much more. That’s our job – 24 hours a day\, 365 days a year. That’s life in the Coast Guard Auxiliary. We don’t just train. We train and perform. \nSince 1939 the U.S. Coast Guard Auxiliary has safeguarded our Nation’s maritime interests in the heartland\, in the ports\, at sea\, and around the globe. \nWe protect the maritime economy and the environment\, we defend our maritime borders\, and we save those in peril. This history has forged our character and purpose as America’s Maritime Guardian — Always Ready for all hazards and all threats.
URL:https://wisvva.org/event/coast-guard-flotilla-47-03-neenah-menasha/2029-11-14/
LOCATION:Wisconsin Veterans Village\, 2919 W Glenpark Dr. Suite 500\, Appleton\, WI\, 54914\, United States
END:VEVENT
BEGIN:VEVENT
DTSTART;TZID=America/Chicago:20291118T120000
DTEND;TZID=America/Chicago:20291118T170000
DTSTAMP:20260425T113046
CREATED:20250416T201754Z
LAST-MODIFIED:20250416T201754Z
UID:10001292-1889697600-1889715600@wisvva.org
SUMMARY:Daughters of the American Revolution - Monthly Meeting
DESCRIPTION:The Appleton Chapter\, NSDAR\, holds monthly meetings\, September through May. We get together occasionally for social events and volunteering outside of those scheduled meeting times. The location changes with each month. Contact us for meeting locations.We are a very active DAR chapter and enjoy meeting regularly. The chapter promotes historic preservation\, education and patriotism.  Guest speakers and members provide interesting programs\, relating to a wide variety of subjects. Subjects include community projects\, lineage and genealogical research\, history\, and current issues of concern.Prospective members are welcome and assistance with filling out DAR application papers is available. For more information on our meetings\, or joining the Appleton Chapter\, NSDAR\, please contact us.
URL:https://wisvva.org/event/daughters-of-the-american-revolution-monthly-meeting/2029-11-18/
LOCATION:Wisconsin Veterans Village\, 2919 W Glenpark Dr. Suite 500\, Appleton\, WI\, 54914\, United States
END:VEVENT
BEGIN:VEVENT
DTSTART;TZID=America/Chicago:20291119T183000
DTEND;TZID=America/Chicago:20291119T193000
DTSTAMP:20260425T113046
CREATED:20250403T201819Z
LAST-MODIFIED:20250403T202927Z
UID:10000245-1889807400-1889811000@wisvva.org
SUMMARY:A New Life Open AA Meeting
DESCRIPTION:
URL:https://wisvva.org/event/a-new-life-open-aa-meeting/2029-11-19/
LOCATION:Wisconsin Veterans Village\, 2919 W Glenpark Dr. Suite 500\, Appleton\, WI\, 54914\, United States
END:VEVENT
BEGIN:VEVENT
DTSTART;TZID=America/Chicago:20291121T110000
DTEND;TZID=America/Chicago:20291121T140000
DTSTAMP:20260425T113046
CREATED:20260325T212510Z
LAST-MODIFIED:20260402T191442Z
UID:10002667-1889953200-1889964000@wisvva.org
SUMMARY:Vet & Frets
DESCRIPTION:Free Guitar lessons – complete 10 Get a free guitar
URL:https://wisvva.org/event/six-string-veterans-project/2029-11-21/
LOCATION:Wisconsin Veterans Village\, 2919 W Glenpark Dr. Suite 500\, Appleton\, WI\, 54914\, United States
ORGANIZER;CN="WISVVA":MAILTO:info@wisvva.org
END:VEVENT
BEGIN:VEVENT
DTSTART;TZID=America/Chicago:20291126T183000
DTEND;TZID=America/Chicago:20291126T193000
DTSTAMP:20260425T113046
CREATED:20250403T201819Z
LAST-MODIFIED:20250403T202927Z
UID:10000246-1890412200-1890415800@wisvva.org
SUMMARY:A New Life Open AA Meeting
DESCRIPTION:
URL:https://wisvva.org/event/a-new-life-open-aa-meeting/2029-11-26/
LOCATION:Wisconsin Veterans Village\, 2919 W Glenpark Dr. Suite 500\, Appleton\, WI\, 54914\, United States
END:VEVENT
BEGIN:VEVENT
DTSTART;TZID=America/Chicago:20291128T110000
DTEND;TZID=America/Chicago:20291128T140000
DTSTAMP:20260425T113046
CREATED:20260325T212510Z
LAST-MODIFIED:20260402T191442Z
UID:10002668-1890558000-1890568800@wisvva.org
SUMMARY:Vet & Frets
DESCRIPTION:Free Guitar lessons – complete 10 Get a free guitar
URL:https://wisvva.org/event/six-string-veterans-project/2029-11-28/
LOCATION:Wisconsin Veterans Village\, 2919 W Glenpark Dr. Suite 500\, Appleton\, WI\, 54914\, United States
ORGANIZER;CN="WISVVA":MAILTO:info@wisvva.org
END:VEVENT
BEGIN:VEVENT
DTSTART;TZID=America/Chicago:20291203T183000
DTEND;TZID=America/Chicago:20291203T193000
DTSTAMP:20260425T113046
CREATED:20250403T201819Z
LAST-MODIFIED:20250403T202927Z
UID:10000247-1891017000-1891020600@wisvva.org
SUMMARY:A New Life Open AA Meeting
DESCRIPTION:
URL:https://wisvva.org/event/a-new-life-open-aa-meeting/2029-12-03/
LOCATION:Wisconsin Veterans Village\, 2919 W Glenpark Dr. Suite 500\, Appleton\, WI\, 54914\, United States
END:VEVENT
BEGIN:VEVENT
DTSTART;TZID=America/Chicago:20291204T110000
DTEND;TZID=America/Chicago:20291204T130000
DTSTAMP:20260425T113046
CREATED:20250416T204605Z
LAST-MODIFIED:20250416T204605Z
UID:10001408-1891076400-1891083600@wisvva.org
SUMMARY:Appleton Vietnam Veterans
DESCRIPTION:About Our Chapter\nAppleton VVA Chapter 351 is aligned with Vietnam Veterans of America\, chartered by Congress in 1986 and dedicated to Vietnam-era Veterans and their families. VVA actively promotes the following goals: \n\nAdvocate on important issues: health care and well-being of veterans; we aid lobbying efforts that support veteran’s issues\nContinually seek the fullest accounting of POW/MIAs and support our next generation of American war veterans\n\nWhat We Do\n\nWe hold regular meetings\, promote social events\, hold fundraising drives throughout the year to benefit veterans and their families\nWe organize a mobile education program called Reflections of Vietnam\, which travels to high schools and other venues to teach young folks and the public about Vietnam\, and positively change the public perception of Vietnam Veterans.\nWe organize/host seminars on Toxic Substances used in wars to help the public understand the long-term effects of these toxins on their lives and the lives of their loved ones.
URL:https://wisvva.org/event/appleton-vietnam-veterans/2029-12-04/
LOCATION:Wisconsin Veterans Village\, 2919 W Glenpark Dr. Suite 500\, Appleton\, WI\, 54914\, United States
END:VEVENT
BEGIN:VEVENT
DTSTART;TZID=America/Chicago:20291205T110000
DTEND;TZID=America/Chicago:20291205T140000
DTSTAMP:20260425T113046
CREATED:20260325T212510Z
LAST-MODIFIED:20260402T191442Z
UID:10002669-1891162800-1891173600@wisvva.org
SUMMARY:Vet & Frets
DESCRIPTION:Free Guitar lessons – complete 10 Get a free guitar
URL:https://wisvva.org/event/six-string-veterans-project/2029-12-05/
LOCATION:Wisconsin Veterans Village\, 2919 W Glenpark Dr. Suite 500\, Appleton\, WI\, 54914\, United States
ORGANIZER;CN="WISVVA":MAILTO:info@wisvva.org
END:VEVENT
BEGIN:VEVENT
DTSTART;TZID=America/Chicago:20291209T130000
DTEND;TZID=America/Chicago:20291209T160000
DTSTAMP:20260425T113046
CREATED:20250416T200851Z
LAST-MODIFIED:20250416T202151Z
UID:10001232-1891515600-1891526400@wisvva.org
SUMMARY:Blue Star Mothers Monthly Meeting
DESCRIPTION:We exist to provide support and encouragement to our troops\, veterans and their families.
URL:https://wisvva.org/event/blue-star-mothers-monthly-meeting/2029-12-09/
LOCATION:Wisconsin Veterans Village\, 2919 W Glenpark Dr. Suite 500\, Appleton\, WI\, 54914\, United States
END:VEVENT
END:VCALENDAR